BEGIN:VCALENDAR
VERSION:2.0
PRODID:-//wp-events-plugin.com//7.2.3.1//EN
BEGIN:VEVENT
UID:27@milpal.cz
DTSTART:20160514T080000Z
DTEND:20160514T190000Z
DTSTAMP:20160502T070553Z
URL:https://milpal.cz/events/semifinale-finale-souteze-ve-zpevu/
SUMMARY:Semifinále a finále soutěže ve zpěvu
DESCRIPTION:S mou účastí v kategorii dospělých.
CATEGORIES:Hudba
LOCATION:Leitnerka - klub\, Leitnerova 2\, Brno\, 60200\, Jihomoravský\, 
 Česká republika
GEO:49.1883217;16.602454899999998
X-APPLE-STRUCTURED-LOCATION;VALUE=URI;X-ADDRESS=Leitnerova 2\, Brno\, 60200
 \, Jihomoravský\, Česká republika;X-APPLE-RADIUS=100;X-TITLE=Leitnerka 
 - klub:geo:49.1883217,16.602454899999998
END:VEVENT
END:VCALENDAR