BEGIN:VCALENDAR
VERSION:2.0
PRODID:-//wp-events-plugin.com//7.2.3.1//EN
BEGIN:VEVENT
UID:39@milpal.cz
DTSTART;VALUE=DATE:20190818
DTEND;VALUE=DATE:20190825
DTSTAMP:20190805T072435Z
URL:https://milpal.cz/events/turistika-v-jesenikach/
SUMMARY:Turistika v Jeseníkách
DESCRIPTION:Turistický pobyt v Jeseníkách
CATEGORIES:Turistika
LOCATION:Loučná nad Desnou - Červenohorské sedlo\, Červenohorské sedl
 o\, Loučná nad Desnou\, 78811\, Olomoucký\, Česká republika
X-APPLE-STRUCTURED-LOCATION;VALUE=URI;X-ADDRESS=Červenohorské sedlo\, Lou
 čná nad Desnou\, 78811\, Olomoucký\, Česká republika;X-APPLE-RADIUS=1
 00;X-TITLE=Loučná nad Desnou - Červenohorské sedlo:geo:0,0
END:VEVENT
END:VCALENDAR