BEGIN:VCALENDAR
VERSION:2.0
PRODID:-//wp-events-plugin.com//7.2.3.1//EN
BEGIN:VEVENT
UID:11@milpal.cz
DTSTART:20141220T130000Z
DTEND:20141220T180000Z
DTSTAMP:20141116T235356Z
URL:https://milpal.cz/events/vanocni-vecirek-tanecniho-studia-no-feet/
SUMMARY:Vánoční večírek tanečního studia No Feet
DESCRIPTION:Step\, jazz dance\, street - co jsme se naučili za uplynulé p
 ololetí. Uvidíte mě v druhé polovině večera ve skupině Jany Haluzov
 é -  jazz dance - mírně pokročilí. Pozor\, vstupenky lze zakoupit po
 uze v předprodeji na recepci tanečního studia NoFeet.
LOCATION:KD Rubín\, Makovského nám. 1\, Brno\, 61600\, Česká republika
GEO:49.2185303;16.5764408
X-APPLE-STRUCTURED-LOCATION;VALUE=URI;X-ADDRESS=Makovského nám. 1\, Brno\
 , 61600\, Česká republika;X-APPLE-RADIUS=100;X-TITLE=KD Rubín:geo:49.21
 85303,16.5764408
END:VEVENT
END:VCALENDAR